Workbook

Sheet Index
C2: Bureau of Infrastructure and Transport Research Economics
B3: Road vehicles Australia, 31 January 2026
B4: Released: 12 October 2026
B6: Disclaimer – Road vehicles, Australia, January 2026, provides estimates of total vehicles registered for use on Australian roads on the 31 January 2026. The estimates continue the Australian Bureau of Statistics' (ABS) discontinued Motor Vehicle Census (MVC). BITRE has made all reasonable efforts to ensure these estimates are both as accurate and coherent as possible with previous ABS MVC estimates. BITRE will continue to refine and improve its data cleaning and standardisation processes, which may also result in estimates for any year being revised or corrected in later years. The Department of Infrastructure, Transport, Regional Development, Communications, Sport and the Arts accepts no liability for any loss or damage suffered by any person or corporation resulting from the use of this data. In addition, the department does not guarantee system availability and is not responsible for any losses associated with any system unavailability.
B8: Contents
B10: Table 1 | C10: Motor vehicles on register, by type of vehicle and state/territory of registration, 2024, 2025 & 2026
B11: Table 2 | C11: Motor vehicles on register, per capita, by type of vehicle and state/territory of registration, 2024, 2025 & 2026
B12: Table 3 | C12: Estimated average age of motor vehicles, by type of vehicle and state/territory of registration, 2024, 2025 & 2026
B13: Table 4 | C13: Motor vehicles on register, by motive power type and type of vehicle, 2024, 2025 & 2026
B14: Table 5 | C14: Motor vehicles on register, by motive power type and state/territory of registration, 2024, 2025 & 2026
B15: Table 6 | C15: Motor vehicles on register, by type of vehicle, vehicle age and state/territory of registration, 2026
B16: Table 7 | C16: Motor vehicles on register, by type of vehicle, state/territory of registration and vehicle garaging by GCCSA, 2026
B17: Table 8 | C17: Motor vehicles on register, by type of vehicle, state/territory of registration and vehicle garaging by Remoteness Area, 2026
B18: Table 9 | C18: Passenger vehicles on register, top 30 vehicle makes, 2024, 2025 & 2026
B19: Table 10 | C19: Battery and fuel-cell electric passenger vehicles on register, top 15 makes, 2024, 2025 & 2026
B20: Table 11 | C20: Rigid trucks on register, by gross vehicle mass (GVM) and state/territory of registration, 2024, 2025 & 2026
B21: Table 12 | C21: Articulated trucks on register, by gross combination mass (GCM) and state/territory of registration, 2024, 2025 & 2026
... B24: Table 15 | C24: Plant and equipment on register, by tare weight and state/territory of registration, 2024, 2025 & 2026
B26: Acknowledgements
B28: The Department of Infrastructure, Transport, Regional Development, Communications, Sport and the Arts acknowledges the assistance of Austroads staff in providing the raw National Exchange of Vehicle and Driver Information System (NEVDIS) information used to derive these estimates.
B30: Inquiries
B32: For further information about the estimates in this publication, contact:
B34: Bureau of Infrastructure and Transport Research Economics (BITRE)
B35: Department of Infrastructure, Transport, Regional Development, Communications, Sport and the Arts
B36: GPO Box 501 Canberra ACT 2601
B37: Email: bitre@infrastructure.gov.au
B38: Website: www.bitre.gov.au
B40: © Commonwealth of Australia

Sheet Table 1
C2: Bureau of Infrastructure and Transport Research Economics
B3: =Index!B3 -> Road vehicles Australia, 31 January 2026
B4: =Index!B4 -> Released: 12 October 2026
B6: =Index!B10 -> Table 1 | C6: =Index!C10 -> Motor vehicles on register, by type of vehicle and state/territory of registration, 2024, 2025 & 2026
B8: Year | C8: New South Wales | D8: Victoria | E8: Queensland | F8: South Australia | G8: Western Australia | H8: Tasmania | I8: Northern Territory | J8: Australian Capital Territory | K8: Australia
C9: (vehicles) | D9: (vehicles) | E9: (vehicles) | F9: (vehicles) | G9: (vehicles) | H9: (vehicles) | I9: (vehicles) | J9: (vehicles) | K9: (vehicles)
C10: Passenger vehicles
B11: 2024 | C11: 4627627 | D11: 4161735 | E11: 3214555 | F11: 1193540 | G11: 1767794 | H11: 356476 | I11: 99419 | J11: 277885 | K11: 15699031
B12: 2025 | C12: 4704838 | D12: 4288033 | E12: 3297304 | F12: 1217965 | G12: 1827640 | H12: 360741 | I12: 100411 | J12: 283219 | K12: 16080151
B13: 2026 | C13: 4771849 | D13: 4371209 | E13: 3369304 | F13: 1238725 | G13: 1879304 | H13: 368045 | I13: 101971 | J13: 287203 | K13: 16387610
C14: Campervans
B15: 2024 | C15: 32702 | D15: 25198 | E15: 29041 | F15: 4337 | G15: 3432 | H15: 5915 | I15: 176 | J15: 897 | K15: 101698
B16: 2025 | C16: 33683 | D16: 26468 | E16: 30688 | F16: 4576 | G16: 3636 | H16: 6096 | I16: 168 | J16: 942 | K16: 106257
B17: 2026 | C17: 34049 | D17: 26924 | E17: 31867 | F17: 4835 | G17: 3750 | H17: 6150 | I17: 185 | J17: 970 | K17: 108730
C18: Light commercial vehicles
B19: 2024 | C19: 1097729 | D19: 897012 | E19: 1074382 | F19: 276059 | G19: 498028 | H19: 134910 | I19: 51504 | J19: 40053 | K19: 4069677
B20: 2025 | C20: 1120443 | D20: 925144 | E20: 1113277 | F20: 284906 | G20: 519455 | H20: 138038 | I20: 52506 | J20: 40786 | K20: 4194555
B21: 2026 | C21: 1141237 | D21: 944459 | E21: 1150197 | F21: 293353 | G21: 539567 | H21: 141096 | I21: 52955 | J21: 41725 | K21: 4304589
C22: Light rigid trucks
B23: 2024 | C23: 73831 | D23: 54903 | E23: 55595 | F23: 13323 | G23: 23996 | H23: 5217 | I23: 2201 | J23: 1998 | K23: 231064
B24: 2025 | C24: 81327 | D24: 60796 | E24: 63474 | F24: 15206 | G24: 28805 | H24: 5758 | I24: 2668 | J24: 2206 | K24: 260240
B25: 2026 | C25: 88532 | D25: 65820 | E25: 73123 | F25: 17266 | G25: 34872 | H25: 6417 | I25: 3262 | J25: 2366 | K25: 291658
C26: Heavy rigid trucks
B27: 2024 | C27: 111359 | D27: 94155 | E27: 85097 | F27: 26700 | G27: 61977 | H27: 10818 | I27: 5030 | J27: 1807 | K27: 396943
B28: 2025 | C28: 112798 | D28: 95970 | E28: 87946 | F28: 27103 | G28: 64300 | H28: 11001 | I28: 5061 | J28: 1784 | K28: 405963
B29: 2026 | C29: 113221 | D29: 96124 | E29: 90631 | F29: 27624 | G29: 66493 | H29: 11088 | I29: 5075 | J29: 1762 | K29: 412018
C30: Articulated trucks
B31: 2024 | C31: 28051 | D31: 34893 | E31: 26958 | F31: 10531 | G31: 19921 | H31: 2382 | I31: 1372 | J31: 195 | K31: 124303
B32: 2025 | C32: 28675 | D32: 35894 | E32: 27880 | F32: 10842 | G32: 21095 | H32: 2425 | I32: 1402 | J32: 205 | K32: 128418
B33: 2026 | C33: 28810 | D33: 35935 | E33: 28440 | F33: 10909 | G33: 21931 | H33: 2487 | I33: 1440 | J33: 201 | K33: 130153
C34: Non-freight-carrying vehicles
B35: 2024 | C35: 8297 | D35: 13159 | E35: 9054 | F35: 3034 | G35: 7800 | H35: 1174 | I35: 484 | J35: 209 | K35: 43211
B36: 2025 | C36: 8642 | D36: 13573 | E36: 9278 | F36: 3111 | G36: 7815 | H36: 1224 | I36: 505 | J36: 202 | K36: 44350
B37: 2026 | C37: 8654 | D37: 13827 | E37: 9562 | F37: 3411 | G37: 7967 | H37: 1265 | I37: 518 | J37: 206 | K37: 45410
C38: Light buses
B39: 2024 | C39: 13388 | D39: 11196 | E39: 12732 | F39: 3434 | G39: 9363 | H39: 1532 | I39: 1915 | J39: 430 | K39: 53990
B40: 2025 | C40: 13892 | D40: 11477 | E40: 13186 | F40: 3555 | G40: 9741 | H40: 1555 | I40: 1954 | J40: 420 | K40: 55780
B41: 2026 | C41: 14472 | D41: 11681 | E41: 13696 | F41: 3720 | G41: 10220 | H41: 1638 | I41: 1998 | J41: 439 | K41: 57864
C42: Heavy buses
B43: 2024 | C43: 14023 | D43: 9824 | E43: 9164 | F43: 2917 | G43: 6732 | H43: 1629 | I43: 1012 | J43: 620 | K43: 45921
...

Sheet Table 2
C2: Bureau of Infrastructure and Transport Research Economics
B3: =Index!B3 -> Road vehicles Australia, 31 January 2026
B4: =Index!B4 -> Released: 12 October 2026
B6: =Index!B11 -> Table 2 | C6: =Index!C11 -> Motor vehicles on register, per capita, by type of vehicle and state/territory of registration, 2024, 2025 & 2026
B8: Year | C8: New South Wales | D8: Victoria | E8: Queensland | F8: South Australia | G8: Western Australia | H8: Tasmania | I8: Northern Territory | J8: Australian Capital Territory | K8: Australia
C9: (vehicles / '000 persons) | D9: (vehicles) | E9: (vehicles) | F9: (vehicles) | G9: (vehicles) | H9: (vehicles) | I9: (vehicles) | J9: (vehicles) | K9: (vehicles)
C10: Passenger vehicles
B11: 2024 | C11: 548.5 | D11: 605 | E11: 582.8 | F11: 637.9 | G11: 601.6 | H11: 620.8 | I11: 383.8 | J11: 585.2 | K11: 582.4
B12: 2025 | C12: 550.6 | D12: 611.6 | E12: 586.8 | F12: 643.9 | G12: 607.5 | H12: 626.6 | I12: 383 | J12: 588 | K12: 586.9
B13: 2026 | C13: 552.2 | D13: 613.8 | E13: 589.9 | F13: 648.3 | G13: 610.9 | H13: 635.5 | I13: 381.2 | J13: 589.5 | K13: 589.5
C14: Campervans
B15: 2024 | C15: 3.9 | D15: 3.7 | E15: 5.3 | F15: 2.3 | G15: 1.2 | H15: 10.3 | I15: 0.7 | J15: 1.9 | K15: 3.8
B16: 2025 | C16: 3.9 | D16: 3.8 | E16: 5.5 | F16: 2.4 | G16: 1.2 | H16: 10.6 | I16: 0.6 | J16: 2 | K16: 3.9
B17: 2026 | C17: 3.9 | D17: 3.8 | E17: 5.6 | F17: 2.5 | G17: 1.2 | H17: 10.6 | I17: 0.7 | J17: 2 | K17: 3.9
C18: Light commercial vehicles
B19: 2024 | C19: 130.1 | D19: 130.4 | E19: 194.8 | F19: 147.5 | G19: 169.5 | H19: 235 | I19: 198.8 | J19: 84.4 | K19: 151
B20: 2025 | C20: 131.1 | D20: 132 | E20: 198.1 | F20: 150.6 | G20: 172.7 | H20: 239.8 | I20: 200.3 | J20: 84.7 | K20: 153.1
B21: 2026 | C21: 132.1 | D21: 132.6 | E21: 201.4 | F21: 153.5 | G21: 175.4 | H21: 243.6 | I21: 198 | J21: 85.6 | K21: 154.8
C22: Light rigid trucks
B23: 2024 | C23: 8.8 | D23: 8 | E23: 10.1 | F23: 7.1 | G23: 8.2 | H23: 9.1 | I23: 8.5 | J23: 4.2 | K23: 8.6
B24: 2025 | C24: 9.5 | D24: 8.7 | E24: 11.3 | F24: 8 | G24: 9.6 | H24: 10 | I24: 10.2 | J24: 4.6 | K24: 9.5
B25: 2026 | C25: 10.2 | D25: 9.2 | E25: 12.8 | F25: 9 | G25: 11.3 | H25: 11.1 | I25: 12.2 | J25: 4.9 | K25: 10.5
C26: Heavy rigid trucks
B27: 2024 | C27: 13.2 | D27: 13.7 | E27: 15.4 | F27: 14.3 | G27: 21.1 | H27: 18.8 | I27: 19.4 | J27: 3.8 | K27: 14.7
B28: 2025 | C28: 13.2 | D28: 13.7 | E28: 15.7 | F28: 14.3 | G28: 21.4 | H28: 19.1 | I28: 19.3 | J28: 3.7 | K28: 14.8
B29: 2026 | C29: 13.1 | D29: 13.5 | E29: 15.9 | F29: 14.5 | G29: 21.6 | H29: 19.1 | I29: 19 | J29: 3.6 | K29: 14.8
C30: Articulated trucks
B31: 2024 | C31: 3.3 | D31: 5.1 | E31: 4.9 | F31: 5.6 | G31: 6.8 | H31: 4.1 | I31: 5.3 | J31: 0.4 | K31: 4.6
B32: 2025 | C32: 3.4 | D32: 5.1 | E32: 5 | F32: 5.7 | G32: 7 | H32: 4.2 | I32: 5.3 | J32: 0.4 | K32: 4.7
B33: 2026 | C33: 3.3 | D33: 5 | E33: 5 | F33: 5.7 | G33: 7.1 | H33: 4.3 | I33: 5.4 | J33: 0.4 | K33: 4.7
C34: Non-freight-carrying vehicles
B35: 2024 | C35: 1 | D35: 1.9 | E35: 1.6 | F35: 1.6 | G35: 2.7 | H35: 2 | I35: 1.9 | J35: 0.4 | K35: 1.6
B36: 2025 | C36: 1 | D36: 1.9 | E36: 1.7 | F36: 1.6 | G36: 2.6 | H36: 2.1 | I36: 1.9 | J36: 0.4 | K36: 1.6
B37: 2026 | C37: 1 | D37: 1.9 | E37: 1.7 | F37: 1.8 | G37: 2.6 | H37: 2.2 | I37: 1.9 | J37: 0.4 | K37: 1.6
C38: Light buses
B39: 2024 | C39: 1.6 | D39: 1.6 | E39: 2.3 | F39: 1.8 | G39: 3.2 | H39: 2.7 | I39: 7.4 | J39: 0.9 | K39: 2
B40: 2025 | C40: 1.6 | D40: 1.6 | E40: 2.3 | F40: 1.9 | G40: 3.2 | H40: 2.7 | I40: 7.5 | J40: 0.9 | K40: 2
B41: 2026 | C41: 1.7 | D41: 1.6 | E41: 2.4 | F41: 1.9 | G41: 3.3 | H41: 2.8 | I41: 7.5 | J41: 0.9 | K41: 2.1
C42: Heavy buses
B43: 2024 | C43: 1.7 | D43: 1.4 | E43: 1.7 | F43: 1.6 | G43: 2.3 | H43: 2.8 | I43: 3.9 | J43: 1.3 | K43: 1.7
...

Sheet Table 3
C2: Bureau of Infrastructure and Transport Research Economics
B3: =Index!B3 -> Road vehicles Australia, 31 January 2026
B4: =Index!B4 -> Released: 12 October 2026
B6: =Index!B12 -> Table 3 | C6: =Index!C12 -> Estimated average age of motor vehicles, by type of vehicle and state/territory of registration, 2024, 2025 & 2026
B8: Year | C8: New South Wales | D8: Victoria | E8: Queensland | F8: South Australia | G8: Western Australia | H8: Tasmania | I8: Northern Territory | J8: Australian Capital Territory | K8: Australia
C9: (years) | D9: (years) | E9: (years) | F9: (years) | G9: (years) | H9: (years) | I9: (years) | J9: (years) | K9: (years)
C10: Passenger vehicles
B11: 2024 | C11: 10.45 | D11: 10.98 | E11: 11.39 | F11: 12.83 | G11: 11.89 | H11: 12.96 | I11: 10.44 | J11: 10.35 | K11: 11.18
B12: 2025 | C12: 10.6 | D12: 11.13 | E12: 11.52 | F12: 12.99 | G12: 12.03 | H12: 13.16 | I12: 10.58 | J12: 10.56 | K12: 11.33
B13: 2026 | C13: 10.7 | D13: 11.25 | E13: 11.65 | F13: 13.14 | G13: 12.15 | H13: 13.31 | I13: 10.7 | J13: 10.75 | K13: 11.45
C14: Campervans
B15: 2024 | C15: 15.9 | D15: 16.58 | E15: 17.52 | F15: 18.64 | G15: 23.49 | H15: 23.12 | I15: 19.34 | J15: 17.35 | K15: 17.34
B16: 2025 | C16: 15.8 | D16: 16.41 | E16: 17.08 | F16: 18.32 | G16: 22.63 | H16: 22.97 | I16: 17.98 | J16: 17.01 | K16: 17.09
B17: 2026 | C17: 15.93 | D17: 16.49 | E17: 16.87 | F17: 18.01 | G17: 22.19 | H17: 23.13 | I17: 17.89 | J17: 17.1 | K17: 17.07
C18: Light commercial vehicles
B19: 2024 | C19: 10.59 | D19: 11.21 | E19: 11.64 | F19: 12.16 | G19: 11.96 | H19: 13.91 | I19: 10.48 | J19: 10.23 | K19: 11.38
B20: 2025 | C20: 10.75 | D20: 11.39 | E20: 11.8 | F20: 12.33 | G20: 12.06 | H20: 14.14 | I20: 10.56 | J20: 10.52 | K20: 11.55
B21: 2026 | C21: 10.9 | D21: 11.57 | E21: 11.95 | F21: 12.48 | G21: 12.16 | H21: 14.4 | I21: 10.74 | J21: 10.69 | K21: 11.7
C22: Light rigid trucks
B23: 2024 | C23: 9.7 | D23: 9.31 | E23: 10.65 | F23: 10.32 | G23: 9.72 | H23: 13.27 | I23: 10.07 | J23: 8.69 | K23: 9.95
B24: 2025 | C24: 9.32 | D24: 9.05 | E24: 10.01 | F24: 9.86 | G24: 8.97 | H24: 12.77 | I24: 8.7 | J24: 8.8 | K24: 9.48
B25: 2026 | C25: 9.08 | D25: 8.94 | E25: 9.41 | F25: 9.44 | G25: 8.26 | H25: 12.26 | I25: 7.75 | J25: 8.61 | K25: 9.11
C26: Heavy rigid trucks
B27: 2024 | C27: 14.76 | D27: 16.34 | E27: 15.14 | F27: 18.3 | G27: 18.38 | H27: 18.8 | I27: 14.89 | J27: 11.85 | K27: 16.12
B28: 2025 | C28: 14.81 | D28: 16.33 | E28: 15.06 | F28: 18.23 | G28: 18.26 | H28: 19.05 | I28: 14.96 | J28: 11.81 | K28: 16.1
B29: 2026 | C29: 14.95 | D29: 16.44 | E29: 15 | F29: 18.07 | G29: 18.18 | H29: 19.27 | I29: 15 | J29: 11.52 | K29: 16.14
C30: Articulated trucks
B31: 2024 | C31: 11.71 | D31: 12.48 | E31: 12.14 | F31: 13.1 | G31: 13.56 | H31: 12.48 | I31: 13.52 | J31: 12.28 | K31: 12.47
B32: 2025 | C32: 11.88 | D32: 12.59 | E32: 12.14 | F32: 13.03 | G32: 13.52 | H32: 12.75 | I32: 13.24 | J32: 11.74 | K32: 12.53
B33: 2026 | C33: 12.06 | D33: 12.86 | E33: 12.24 | F33: 13.43 | G33: 13.62 | H33: 12.82 | I33: 13.16 | J33: 11.25 | K33: 12.73
C34: Non-freight-carrying vehicles
B35: 2024 | C35: 12.65 | D35: 14.51 | E35: 12.7 | F35: 14.69 | G35: 14.87 | H35: 16.35 | I35: 14.23 | J35: 11.4 | K35: 13.88
B36: 2025 | C36: 12.54 | D36: 14.46 | E36: 12.65 | F36: 14.75 | G36: 14.39 | H36: 16.55 | I36: 14.16 | J36: 12.79 | K36: 13.76
B37: 2026 | C37: 12.84 | D37: 14.57 | E37: 12.59 | F37: 14.42 | G37: 14.4 | H37: 16.95 | I37: 13.39 | J37: 13.04 | K37: 13.83
C38: Light buses
B39: 2024 | C39: 11.19 | D39: 13.14 | E39: 11.77 | F39: 12.14 | G39: 12.04 | H39: 14.57 | I39: 8.95 | J39: 11.64 | K39: 11.96
B40: 2025 | C40: 11.25 | D40: 13.23 | E40: 11.67 | F40: 12.26 | G40: 12.02 | H40: 14.86 | I40: 9.31 | J40: 12.02 | K40: 11.99
B41: 2026 | C41: 11.23 | D41: 13.17 | E41: 11.57 | F41: 12.29 | G41: 11.97 | H41: 14.7 | I41: 9.3 | J41: 12.17 | K41: 11.94
C42: Heavy buses
B43: 2024 | C43: 12.76 | D43: 12.48 | E43: 12.08 | F43: 12.47 | G43: 11.01 | H43: 15.69 | I43: 12.57 | J43: 11.72 | K43: 12.37
...

Sheet Table 4
C2: Bureau of Infrastructure and Transport Research Economics
B3: =Index!B3 -> Road vehicles Australia, 31 January 2026
B4: =Index!B4 -> Released: 12 October 2026
B6: =Index!B13 -> Table 4 | C6: =Index!C13 -> Motor vehicles on register, by motive power type and type of vehicle, 2024, 2025 & 2026
C8: ICE
B9: Year | C9: Petrol | D9: Diesel | E9: Dual fuel / other | F9: BEV / FCEV | G9: HEV | H9: PHEV | I9: Other | J9: Total
C10: (vehicles) | D10: (vehicles) | E10: (vehicles) | F10: (vehicles) | G10: (vehicles) | H10: (vehicles) | I10: (vehicles) | J10: (vehicles)
C11: Passenger vehicles
B12: 2024 | C12: 12672446 | D12: 2284659 | E12: 97748 | F12: 159121 | G12: 455095 | H12: 29881 | I12: 81 | J12: 15699031
B13: 2025 | C13: 12697284 | D13: 2351913 | E13: 86999 | F13: 248671 | G13: 640611 | H13: 54602 | I13: 71 | J13: 16080151
B14: 2026 | C14: 12611694 | D14: 2412550 | E14: 75964 | F14: 354977 | G14: 843132 | H14: 89221 | I14: 72 | J14: 16387610
C15: Campervans
B16: 2024 | C16: 38780 | D16: 61700 | E16: 907 | F16: 4 | G16: 291 | H16: 0 | I16: 16 | J16: 101698
B17: 2025 | C17: 37685 | D17: 67430 | E17: 843 | F17: 6 | G17: 276 | H17: 0 | I17: 17 | J17: 106257
B18: 2026 | C18: 35912 | D18: 71755 | E18: 770 | F18: 6 | G18: 271 | H18: 0 | I18: 16 | J18: 108730
C19: Light commercial vehicles
B20: 2024 | C20: 916078 | D20: 3094228 | E20: 58682 | F20: 565 | G20: 85 | H20: 0 | I20: 39 | J20: 4069677
B21: 2025 | C21: 894052 | D21: 3245036 | E21: 53578 | F21: 822 | G21: 515 | H21: 518 | I21: 34 | J21: 4194555
B22: 2026 | C22: 863969 | D22: 3368250 | E22: 47923 | F22: 1545 | G22: 798 | H22: 22073 | I22: 31 | J22: 4304589
C23: Light rigid trucks
B24: 2024 | C24: 4324 | D24: 225639 | E24: 751 | F24: 211 | G24: 136 | H24: 0 | I24: 3 | J24: 231064
B25: 2025 | C25: 4870 | D25: 253432 | E25: 709 | F25: 564 | G25: 662 | H25: 0 | I25: 3 | J25: 260240
B26: 2026 | C26: 6194 | D26: 282413 | E26: 643 | F26: 905 | G26: 1487 | H26: 13 | I26: 3 | J26: 291658
C27: Heavy rigid trucks
B28: 2024 | C28: 6377 | D28: 389578 | E28: 590 | F28: 193 | G28: 196 | H28: 0 | I28: 9 | J28: 396943
B29: 2025 | C29: 5852 | D29: 399020 | E29: 539 | F29: 301 | G29: 243 | H29: 0 | I29: 8 | J29: 405963
B30: 2026 | C30: 5380 | D30: 405438 | E30: 487 | F30: 409 | G30: 300 | H30: 0 | I30: 4 | J30: 412018
C31: Articulated trucks
B32: 2024 | C32: 372 | D32: 123809 | E32: 102 | F32: 13 | G32: 3 | H32: 0 | I32: 4 | J32: 124303
B33: 2025 | C33: 374 | D33: 127924 | E33: 86 | F33: 27 | G33: 3 | H33: 0 | I33: 4 | J33: 128418
B34: 2026 | C34: 348 | D34: 129675 | E34: 57 | F34: 70 | G34: 3 | H34: 0 | I34: 0 | J34: 130153
C35: Non-freight-carrying vehicles
B36: 2024 | C36: 1602 | D36: 41326 | E36: 236 | F36: 30 | G36: 13 | H36: 0 | I36: 4 | J36: 43211
B37: 2025 | C37: 1563 | D37: 42525 | E37: 202 | F37: 37 | G37: 17 | H37: 3 | I37: 3 | J37: 44350
B38: 2026 | C38: 1541 | D38: 43594 | E38: 197 | F38: 47 | G38: 28 | H38: 3 | I38: 0 | J38: 45410
C39: Light buses
B40: 2024 | C40: 12060 | D40: 40693 | E40: 1216 | F40: 21 | G40: 0 | H40: 0 | I40: 0 | J40: 53990
B41: 2025 | C41: 11644 | D41: 42991 | E41: 1115 | F41: 30 | G41: 0 | H41: 0 | I41: 0 | J41: 55780
B42: 2026 | C42: 11095 | D42: 45717 | E42: 1020 | F42: 32 | G42: 0 | H42: 0 | I42: 0 | J42: 57864
C43: Heavy buses
...

Sheet Table 5
C2: Bureau of Infrastructure and Transport Research Economics
B3: =Index!B3 -> Road vehicles Australia, 31 January 2026
B4: =Index!B4 -> Released: 12 October 2026
B6: =Index!B14 -> Table 5 | C6: =Index!C14 -> Motor vehicles on register, by motive power type and state/territory of registration, 2024, 2025 & 2026
C8: ICE
B9: Year | C9: Petrol | D9: Diesel | E9: Dual fuel / other | F9: BEV / FCEV | G9: HEV | H9: PHEV | I9: Other | J9: Total
C10: (vehicles) | D10: (vehicles) | E10: (vehicles) | F10: (vehicles) | G10: (vehicles) | H10: (vehicles) | I10: (vehicles) | J10: (vehicles)
C11: New South Wales
B12: 2024 | C12: 4349724 | D12: 1713011 | E12: 21784 | F12: 52488 | G12: 150709 | H12: 8909 | I12: 22 | J12: 6296647
B13: 2025 | C13: 4316119 | D13: 1770074 | E13: 18535 | F13: 78298 | G13: 208846 | H13: 15984 | I13: 18 | J13: 6407874
B14: 2026 | C14: 4254401 | D14: 1817368 | E14: 15442 | F14: 110497 | G14: 272289 | H14: 32041 | I14: 14 | J14: 6502052
C15: Victoria
B16: 2024 | C16: 3802752 | D16: 1459532 | E16: 88532 | F16: 42489 | G16: 115966 | H16: 8304 | I16: 0 | J16: 5517575
B17: 2025 | C17: 3833030 | D17: 1522028 | E17: 80508 | F17: 67956 | G17: 167086 | H17: 15502 | I17: 0 | J17: 5686110
B18: 2026 | C18: 3806838 | D18: 1563325 | E18: 71808 | F18: 100572 | G18: 221616 | H18: 31224 | I18: 5 | J18: 5795388
C19: Queensland
B20: 2024 | C20: 3043305 | D20: 1561816 | E20: 18437 | F20: 36266 | G20: 88625 | H20: 5804 | I20: 3 | J20: 4754256
B21: 2025 | C21: 3046933 | D21: 1636643 | E21: 16507 | F21: 55641 | G21: 125531 | H21: 11149 | I21: 3 | J21: 4892407
B22: 2026 | C22: 3033927 | D22: 1706378 | E22: 14467 | F22: 76546 | G22: 166298 | H22: 23150 | I22: 6 | J22: 5020772
C23: South Australia
B24: 2024 | C24: 1107243 | D24: 434218 | E24: 8841 | F24: 8490 | G24: 33889 | H24: 2078 | I24: 0 | J24: 1594759
B25: 2025 | C25: 1107350 | D25: 453945 | E25: 8098 | F25: 13650 | G25: 45685 | H25: 3668 | I25: 0 | J25: 1632396
B26: 2026 | C26: 1098305 | D26: 472961 | E26: 7230 | F26: 19581 | G26: 58786 | H26: 7186 | I26: 0 | J26: 1664049
C27: Western Australia
B28: 2024 | C28: 1621795 | D28: 821270 | E28: 20030 | F28: 17150 | G28: 45464 | H28: 2659 | I28: 135 | J28: 2528503
B29: 2025 | C29: 1636628 | D29: 866973 | E29: 18168 | F29: 27553 | G29: 66012 | H29: 5334 | I29: 122 | J29: 2620790
B30: 2026 | C30: 1637965 | D30: 910587 | E30: 16134 | F30: 39763 | G30: 88446 | H30: 11556 | I30: 103 | J30: 2704554
C31: Tasmania
B32: 2024 | C32: 355282 | D32: 172584 | E32: 2098 | F32: 3287 | G32: 7367 | H32: 597 | I32: 0 | J32: 541215
B33: 2025 | C33: 352590 | D33: 179184 | E33: 1910 | F33: 4616 | G33: 10664 | H33: 877 | I33: 0 | J33: 549841
B34: 2026 | C34: 351681 | D34: 185472 | E34: 1721 | F34: 6197 | G34: 14642 | H34: 1745 | I34: 0 | J34: 561458
C35: Northern Territory
B36: 2024 | C36: 88968 | D36: 74979 | E36: 320 | F36: 536 | G36: 3770 | H36: 102 | I36: 3 | J36: 168678
B37: 2025 | C37: 87362 | D37: 77133 | E37: 283 | F37: 867 | G37: 5109 | H37: 227 | I37: 3 | J37: 170984
B38: 2026 | C38: 85950 | D38: 79216 | E38: 256 | F38: 1156 | G38: 6563 | H38: 516 | I38: 3 | J38: 173660
C39: Australian Capital Territory
B40: 2024 | C40: 250053 | D40: 68319 | E40: 1253 | F40: 6683 | G40: 10142 | H40: 1428 | I40: 0 | J40: 337878
B41: 2025 | C41: 247866 | D41: 69294 | E41: 1078 | F41: 10240 | G41: 13520 | H41: 2382 | I41: 0 | J41: 344380
B42: 2026 | C42: 243037 | D42: 69850 | E42: 882 | F42: 13995 | G42: 17561 | H42: 3892 | I42: 0 | J42: 349217
C43: Australia
...

Sheet Table 6
C2: Bureau of Infrastructure and Transport Research Economics
B3: =Index!B3 -> Road vehicles Australia, 31 January 2026
B4: =Index!B4 -> Released: 12 October 2026
B6: =Index!B15 -> Table 6 | C6: =Index!C15 -> Motor vehicles on register, by type of vehicle, vehicle age and state/territory of registration, 2026
B8: Vehicle age | C8: New South Wales | D8: Victoria | E8: Queensland | F8: South Australia | G8: Western Australia | H8: Tasmania | I8: Northern Territory | J8: Australian Capital Territory | K8: Australia
C9: (vehicles) | D9: (vehicles) | E9: (vehicles) | F9: (vehicles) | G9: (vehicles) | H9: (vehicles) | I9: (vehicles) | J9: (vehicles) | K9: (vehicles)
C10: Passenger vehicles
B11: 0 - 5 years | C11: 1294140 | D11: 1102113 | E11: 886594 | F11: 274786 | G11: 453403 | H11: 75049 | I11: 29424 | J11: 72526 | K11: 4188035
B12: 6 - 10 years | C12: 1229128 | D12: 1074889 | E12: 800085 | F12: 271630 | G12: 417671 | H12: 75573 | I12: 24463 | J12: 79965 | K12: 3973404
B13: 11 - 15 years | C13: 1075768 | D13: 1004577 | E13: 756745 | F13: 267043 | G13: 433719 | H13: 78433 | I13: 22507 | J13: 67928 | K13: 3706720
B14: 16 - 20 years | C14: 670102 | D14: 668056 | E14: 494940 | F14: 204656 | G14: 321218 | H14: 65836 | I14: 15122 | J14: 40010 | K14: 2479940
B15: >20 years | C15: 502688 | D15: 521520 | E15: 430849 | F15: 220605 | G15: 253290 | H15: 73154 | I15: 10455 | J15: 26770 | K15: 2039331
B16: Unknown | C16: 23 | D16: 54 | E16: 91 | F16: 5 | G16: 3 | H16: 0 | I16: 0 | J16: 4 | K16: 180
B17: All years | C17: 4771849 | D17: 4371209 | E17: 3369304 | F17: 1238725 | G17: 1879304 | H17: 368045 | I17: 101971 | J17: 287203 | K17: 16387610
C18: Campervans
B19: 0 - 5 years | C19: 5900 | D19: 5544 | E19: 6357 | F19: 1018 | G19: 730 | H19: 627 | I19: 33 | J19: 170 | K19: 20379
B20: 6 - 10 years | C20: 4930 | D20: 3428 | E20: 4440 | F20: 537 | G20: 52 | H20: 569 | I20: 31 | J20: 124 | K20: 14111
B21: 11 - 15 years | C21: 4717 | D21: 2910 | E21: 3471 | F21: 424 | G21: 187 | H21: 590 | I21: 11 | J21: 129 | K21: 12439
B22: 16 - 20 years | C22: 7452 | D22: 5342 | E22: 4944 | F22: 714 | G22: 529 | H22: 959 | I22: 22 | J22: 199 | K22: 20161
B23: >20 years | C23: 11050 | D23: 9700 | E23: 12655 | F23: 2142 | G23: 2252 | H23: 3405 | I23: 88 | J23: 348 | K23: 41640
B24: Unknown | C24: 0 | D24: 0 | E24: 0 | F24: 0 | G24: 0 | H24: 0 | I24: 0 | J24: 0 | K24: 0
B25: All years | C25: 34049 | D25: 26924 | E25: 31867 | F25: 4835 | G25: 3750 | H25: 6150 | I25: 185 | J25: 970 | K25: 108730
C26: Light commercial vehicles
B27: 0 - 5 years | C27: 334955 | D27: 267318 | E27: 313529 | F27: 77376 | G27: 147375 | H27: 27792 | I27: 15771 | J27: 12085 | K27: 1196201
B28: 6 - 10 years | C28: 296669 | D28: 232371 | E28: 271945 | F28: 68078 | G28: 120558 | H28: 29492 | I28: 13082 | J28: 11809 | K28: 1044004
B29: 11 - 15 years | C29: 217182 | D29: 173108 | E29: 221284 | F29: 53734 | G29: 103713 | H29: 25136 | I29: 10554 | J29: 7994 | K29: 812705
B30: 16 - 20 years | C30: 141679 | D30: 125353 | E30: 160262 | F30: 41028 | G30: 78433 | H30: 21973 | I30: 7285 | J30: 4940 | K30: 580953
B31: >20 years | C31: 150742 | D31: 146290 | E31: 183147 | F31: 53130 | G31: 89488 | H31: 36703 | I31: 6263 | J31: 4897 | K31: 670660
B32: Unknown | C32: 10 | D32: 19 | E32: 30 | F32: 7 | G32: 0 | H32: 0 | I32: 0 | J32: 0 | K32: 66
B33: All years | C33: 1141237 | D33: 944459 | E33: 1150197 | F33: 293353 | G33: 539567 | H33: 141096 | I33: 52955 | J33: 41725 | K33: 4304589
C34: Light rigid trucks
B35: 0 - 5 years | C35: 39897 | D35: 29903 | E35: 36300 | F35: 8081 | G35: 18819 | H35: 2511 | I35: 1971 | J35: 1021 | K35: 138503
B36: 6 - 10 years | C36: 18850 | D36: 14018 | E36: 11798 | F36: 3137 | G36: 4942 | H36: 1012 | I36: 338 | J36: 626 | K36: 54721
B37: 11 - 15 years | C37: 10343 | D37: 7719 | E37: 7014 | F37: 1905 | G37: 3667 | H37: 715 | I37: 279 | J37: 282 | K37: 31924
B38: 16 - 20 years | C38: 8655 | D38: 6720 | E38: 7232 | F38: 1806 | G38: 3324 | H38: 704 | I38: 285 | J38: 201 | K38: 28927
B39: >20 years | C39: 10787 | D39: 7460 | E39: 10779 | F39: 2337 | G39: 4120 | H39: 1475 | I39: 389 | J39: 236 | K39: 37583
B40: Unknown | C40: 0 | D40: 0 | E40: 0 | F40: 0 | G40: 0 | H40: 0 | I40: 0 | J40: 0 | K40: 0
B41: All years | C41: 88532 | D41: 65820 | E41: 73123 | F41: 17266 | G41: 34872 | H41: 6417 | I41: 3262 | J41: 2366 | K41: 291658
C42: Heavy rigid trucks
B43: 0 - 5 years | C43: 23828 | D43: 19918 | E43: 22093 | F43: 5846 | G43: 12814 | H43: 1627 | I43: 1032 | J43: 538 | K43: 87696
...

Sheet Table 7
C2: Bureau of Infrastructure and Transport Research Economics
B3: =Index!B3 -> Road vehicles Australia, 31 January 2026
B4: =Index!B4 -> Released: 12 October 2026
B6: =Index!B16 -> Table 7 | C6: =Index!C16 -> Motor vehicles on register, by type of vehicle, state/territory of registration and vehicle garaging by GCCSA, 2026
B8: GCCSA | C8: New South Wales | D8: Victoria | E8: Queensland | F8: South Australia | G8: Western Australia | H8: Tasmania | I8: Northern Territory | J8: Australian Capital Territory | K8: Australia
C9: (vehicles) | D9: (vehicles) | E9: (vehicles) | F9: (vehicles) | G9: (vehicles) | H9: (vehicles) | I9: (vehicles) | J9: (vehicles) | K9: (vehicles)
C10: Passenger vehicles
B11: GCC | C11: 3062371 | D11: 3286540 | E11: 1706537 | F11: 974070 | G11: 1550752 | H11: 166826 | I11: 79544 | J11: 286375 | K11: 11113015
B12: ROS | C12: 1699498 | D12: 1081161 | E12: 1658524 | F12: 264567 | G12: 328427 | H12: 201213 | I12: 22375 | J12: 0 | K12: 5255765
B13: Other S/T | C13: 7894 | D13: 2996 | E13: 4239 | F13: 88 | G13: 118 | H13: 0 | I13: 44 | J13: 550 | K13: 15929
B14: Not stated | C14: 2086 | D14: 512 | E14: 4 | F14: 0 | G14: 7 | H14: 6 | I14: 8 | J14: 278 | K14: 2901
B15: All areas | C15: 4771849 | D15: 4371209 | E15: 3369304 | F15: 1238725 | G15: 1879304 | H15: 368045 | I15: 101971 | J15: 287203 | K15: 16387610
C16: Campervans
B17: GCC | C17: 15506 | D17: 16263 | E17: 13795 | F17: 2954 | G17: 2524 | H17: 2171 | I17: 138 | J17: 963 | K17: 54314
B18: ROS | C18: 18471 | D18: 10606 | E18: 17887 | F18: 1878 | G18: 1226 | H18: 3979 | I18: 47 | J18: 0 | K18: 54094
B19: Other S/T | C19: 64 | D19: 55 | E19: 182 | F19: 3 | G19: 0 | H19: 0 | I19: 0 | J19: 7 | K19: 311
B20: Not stated | C20: 8 | D20: 0 | E20: 3 | F20: 0 | G20: 0 | H20: 0 | I20: 0 | J20: 0 | K20: 11
B21: All areas | C21: 34049 | D21: 26924 | E21: 31867 | F21: 4835 | G21: 3750 | H21: 6150 | I21: 185 | J21: 970 | K21: 108730
C22: Light commercial vehicles
B23: GCC | C23: 490274 | D23: 515069 | E23: 448920 | F23: 169388 | G23: 357200 | H23: 48890 | I23: 37543 | J23: 41496 | K23: 2108780
B24: ROS | C24: 647721 | D24: 427217 | E24: 698520 | F24: 123940 | G24: 182296 | H24: 92203 | I24: 15387 | J24: 0 | K24: 2187284
B25: Other S/T | C25: 3030 | D25: 2087 | E25: 2754 | F25: 25 | G25: 71 | H25: 3 | I25: 20 | J25: 182 | K25: 8172
B26: Not stated | C26: 212 | D26: 86 | E26: 3 | F26: 0 | G26: 0 | H26: 0 | I26: 5 | J26: 47 | K26: 353
B27: All areas | C27: 1141237 | D27: 944459 | E27: 1150197 | F27: 293353 | G27: 539567 | H27: 141096 | I27: 52955 | J27: 41725 | K27: 4304589
C28: Light rigid trucks
B29: GCC | C29: 48287 | D29: 43614 | E29: 31489 | F29: 11733 | G29: 25612 | H29: 2629 | I29: 2252 | J29: 2357 | K29: 167973
B30: ROS | C30: 39887 | D30: 22004 | E30: 41361 | F30: 5533 | G30: 9257 | H30: 3788 | I30: 1007 | J30: 0 | K30: 122837
B31: Other S/T | C31: 352 | D31: 202 | E31: 270 | F31: 0 | G31: 3 | H31: 0 | I31: 3 | J31: 9 | K31: 839
B32: Not stated | C32: 6 | D32: 0 | E32: 3 | F32: 0 | G32: 0 | H32: 0 | I32: 0 | J32: 0 | K32: 9
B33: All areas | C33: 88532 | D33: 65820 | E33: 73123 | F33: 17266 | G33: 34872 | H33: 6417 | I33: 3262 | J33: 2366 | K33: 291658
C34: Heavy rigid trucks
B35: GCC | C35: 50747 | D35: 56293 | E35: 34609 | F35: 16079 | G35: 37954 | H35: 3625 | I35: 3154 | J35: 1736 | K35: 204197
B36: ROS | C36: 61846 | D36: 39265 | E36: 55478 | F36: 11545 | G36: 28532 | H36: 7463 | I36: 1915 | J36: 0 | K36: 206044
B37: Other S/T | C37: 623 | D37: 566 | E37: 544 | F37: 0 | G37: 7 | H37: 0 | I37: 0 | J37: 26 | K37: 1766
B38: Not stated | C38: 5 | D38: 0 | E38: 0 | F38: 0 | G38: 0 | H38: 0 | I38: 6 | J38: 0 | K38: 11
B39: All areas | C39: 113221 | D39: 96124 | E39: 90631 | F39: 27624 | G39: 66493 | H39: 11088 | I39: 5075 | J39: 1762 | K39: 412018
C40: Articulated trucks
B41: GCC | C41: 9901 | D41: 17040 | E41: 10718 | F41: 4434 | G41: 10989 | H41: 411 | I41: 889 | J41: 201 | K41: 54583
B42: ROS | C42: 18729 | D42: 18618 | E42: 17362 | F42: 6475 | G42: 10942 | H42: 2076 | I42: 547 | J42: 0 | K42: 74749
B43: Other S/T | C43: 180 | D43: 277 | E43: 360 | F43: 0 | G43: 0 | H43: 0 | I43: 0 | J43: 0 | K43: 817
...

Sheet Table 8
C2: Bureau of Infrastructure and Transport Research Economics
B3: =Index!B3 -> Road vehicles Australia, 31 January 2026
B4: =Index!B4 -> Released: 12 October 2026
B6: =Index!B17 -> Table 8 | C6: =Index!C17 -> Motor vehicles on register, by type of vehicle, state/territory of registration and vehicle garaging by Remoteness Area, 2026
B8: Remoteness Area | C8: New South Wales | D8: Victoria | E8: Queensland | F8: South Australia | G8: Western Australia | H8: Tasmania | I8: Northern Territory | J8: Australian Capital Territory | K8: Australia
C9: (vehicles) | D9: (vehicles) | E9: (vehicles) | F9: (vehicles) | G9: (vehicles) | H9: (vehicles) | I9: (vehicles) | J9: (vehicles) | K9: (vehicles)
C10: Passenger vehicles
B11: Major Cities | C11: 3597274 | D11: 3359016 | E11: 2275245 | F11: 940939 | G11: 1529880 | H11: 0 | I11: 40 | J11: 286260 | K11: 11988654
B12: Inner Regional | C12: 961120 | D12: 841315 | E12: 646512 | F12: 131080 | G12: 165044 | H12: 232180 | I12: 3 | J12: 647 | K12: 2977901
B13: Outer Regional | C13: 196507 | D13: 168067 | E13: 396950 | F13: 131612 | G13: 116660 | H13: 129189 | I13: 79545 | J13: 19 | K13: 1218549
B14: Remote | C14: 11963 | D14: 2131 | E14: 32546 | F14: 28350 | G14: 48569 | H14: 5082 | I14: 18689 | J14: 0 | K14: 147330
B15: Very Remote | C15: 2896 | D15: 28 | E15: 18000 | F15: 6744 | G15: 19141 | H15: 1588 | I15: 3686 | J15: 0 | K15: 52083
B16: Not stated | C16: 2089 | D16: 652 | E16: 51 | F16: 0 | G16: 10 | H16: 6 | I16: 8 | J16: 277 | K16: 3093
B17: All areas | C17: 4771849 | D17: 4371209 | E17: 3369304 | F17: 1238725 | G17: 1879304 | H17: 368045 | I17: 101971 | J17: 287203 | K17: 16387610
C18: Campervans
B19: Major Cities | C19: 20606 | D19: 16481 | E19: 19116 | F19: 2779 | G19: 2448 | H19: 0 | I19: 0 | J19: 961 | K19: 62391
B20: Inner Regional | C20: 11202 | D20: 8231 | E20: 8212 | F20: 935 | G20: 584 | H20: 2989 | I20: 0 | J20: 9 | K20: 32162
B21: Outer Regional | C21: 2120 | D21: 2177 | E21: 4031 | F21: 858 | G21: 479 | H21: 3018 | I21: 138 | J21: 0 | K21: 12821
B22: Remote | C22: 96 | D22: 32 | E22: 359 | F22: 203 | G22: 173 | H22: 135 | I22: 41 | J22: 0 | K22: 1039
B23: Very Remote | C23: 17 | D23: 0 | E23: 142 | F23: 60 | G23: 66 | H23: 8 | I23: 6 | J23: 0 | K23: 299
B24: Not stated | C24: 8 | D24: 3 | E24: 7 | F24: 0 | G24: 0 | H24: 0 | I24: 0 | J24: 0 | K24: 18
B25: All areas | C25: 34049 | D25: 26924 | E25: 31867 | F25: 4835 | G25: 3750 | H25: 6150 | I25: 185 | J25: 970 | K25: 108730
C26: Light commercial vehicles
B27: Major Cities | C27: 615213 | D27: 519949 | E27: 578892 | F27: 157604 | G27: 347931 | H27: 0 | I27: 16 | J27: 41360 | K27: 2260965
B28: Inner Regional | C28: 383137 | D28: 327142 | E28: 300396 | F28: 48138 | G28: 72802 | H28: 70962 | I28: 0 | J28: 313 | K28: 1202890
B29: Outer Regional | C29: 129420 | D29: 95621 | E29: 219192 | F29: 64433 | G29: 69725 | H29: 65664 | I29: 37544 | J29: 5 | K29: 681604
B30: Remote | C30: 10921 | D30: 1621 | E30: 29355 | F30: 17427 | G30: 34450 | H30: 3139 | I30: 11278 | J30: 0 | K30: 108191
B31: Very Remote | C31: 2334 | D31: 13 | E31: 22355 | F31: 5751 | G31: 14659 | H31: 1331 | I31: 4112 | J31: 0 | K31: 50555
B32: Not stated | C32: 212 | D32: 113 | E32: 7 | F32: 0 | G32: 0 | H32: 0 | I32: 5 | J32: 47 | K32: 384
B33: All areas | C33: 1141237 | D33: 944459 | E33: 1150197 | F33: 293353 | G33: 539567 | H33: 141096 | I33: 52955 | J33: 41725 | K33: 4304589
C34: Light rigid trucks
B35: Major Cities | C35: 56416 | D35: 44392 | E35: 40461 | F35: 11114 | G35: 25069 | H35: 0 | I35: 0 | J35: 2353 | K35: 179805
B36: Inner Regional | C36: 24282 | D36: 17119 | E36: 16730 | F36: 2274 | G36: 3329 | H36: 3727 | I36: 0 | J36: 13 | K36: 67474
B37: Outer Regional | C37: 6917 | D37: 4237 | E37: 12392 | F37: 2731 | G37: 3611 | H37: 2547 | I37: 2252 | J37: 0 | K37: 34687
B38: Remote | C38: 714 | D38: 68 | E38: 2041 | F38: 823 | G38: 1973 | H38: 107 | I38: 728 | J38: 0 | K38: 6454
B39: Very Remote | C39: 198 | D39: 0 | E39: 1495 | F39: 324 | G39: 890 | H39: 36 | I39: 282 | J39: 0 | K39: 3225
B40: Not stated | C40: 5 | D40: 4 | E40: 4 | F40: 0 | G40: 0 | H40: 0 | I40: 0 | J40: 0 | K40: 13
B41: All areas | C41: 88532 | D41: 65820 | E41: 73123 | F41: 17266 | G41: 34872 | H41: 6417 | I41: 3262 | J41: 2366 | K41: 291658
C42: Heavy rigid trucks
B43: Major Cities | C43: 58157 | D43: 56670 | E43: 42471 | F43: 14882 | G43: 36645 | H43: 0 | I43: 0 | J43: 1747 | K43: 210572
...

Sheet Table 9
C2: Bureau of Infrastructure and Transport Research Economics
B3: =Index!B3 -> Road vehicles Australia, 31 January 2026
B4: =Index!B4 -> Released: 12 October 2026
B6: =Index!B18 -> Table 9 | C6: =Index!C18 -> Passenger vehicles on register, top 30 vehicle makes, 2024, 2025 & 2026
B8: Make | C8: 2026 | D8: 2025 | E8: 2024
C9: (vehicles) | D9: (vehicles) | E9: (vehicles)
B10: Toyota | C10: 3317413 | D10: 3250377 | E10: 3161722
B11: Mazda | C11: 1576072 | D11: 1548702 | E11: 1506747
B12: Hyundai | C12: 1342431 | D12: 1313936 | E12: 1284425
B13: Holden | C13: 1000292 | D13: 1095228 | E13: 1186057
B14: Mitsubishi | C14: 917678 | D14: 913861 | E14: 890589
B15: Ford | C15: 836433 | D15: 869634 | E15: 900248
B16: Kia | C16: 823647 | D16: 764718 | E16: 697258
B17: Nissan | C17: 808884 | D17: 818779 | E17: 817094
B18: Subaru | C18: 795645 | D18: 786303 | E18: 771170
B19: Honda | C19: 711162 | D19: 721225 | E19: 727920
B20: Volkswagen | C20: 598800 | D20: 601255 | E20: 594258
B21: Mercedes-Benz | C21: 502866 | D21: 493647 | E21: 484650
... B41: Total | C41: 16387610 | D41: 16080151 | E41: 15699031
B42: Source: BITRE estimates.

Sheet Table 10
C2: Bureau of Infrastructure and Transport Research Economics
B3: =Index!B3 -> Road vehicles Australia, 31 January 2026
B4: =Index!B4 -> Released: 12 October 2026
B6: =Index!B19 -> Table 10 | C6: =Index!C19 -> Battery and fuel-cell electric passenger vehicles on register, top 15 makes, 2024, 2025 & 2026
B8: Make | C8: 2026 | D8: 2025 | E8: 2024
C9: (vehicles) | D9: (vehicles) | E9: (vehicles)
B10: Tesla | C10: 154844 | D10: 126635 | E10: 89236
B11: BYD | C11: 56665 | D11: 29125 | E11: 16013
B12: MG | C12: 23175 | D12: 17081 | E12: 9046
B13: BMW | C13: 17802 | D13: 12873 | E13: 5002
B14: Kia | C14: 16251 | D14: 8149 | E14: 4495
B15: Volvo | C15: 11916 | D15: 9641 | E15: 5825
B16: Hyundai | C16: 11862 | D16: 10269 | E16: 7780
B17: Mercedes-Benz | C17: 10913 | D17: 8084 | E17: 5380
B18: Polestar | C18: 7954 | D18: 5641 | E18: 4093
B19: Nissan | C19: 5284 | D19: 5070 | E19: 4343
B20: Geely | C20: 4456 | D20: 3 | E20: 0
B21: MINI | C21: 4298 | D21: 2661 | E21: 1400
... B26: Total | C26: 354977 | D26: 248671 | E26: 159121
B27: Source: BITRE estimates.

Sheet Table 11
C2: Bureau of Infrastructure and Transport Research Economics
B3: =Index!B3 -> Road vehicles Australia, 31 January 2026
B4: =Index!B4 -> Released: 12 October 2026
B6: =Index!B20 -> Table 11 | C6: =Index!C20 -> Rigid trucks on register, by gross vehicle mass (GVM) and state/territory of registration, 2024, 2025 & 2026
C8: Gross vehicle mass
B9: Year | C9: 4.5 tonnes and under | D9: Over 4.5 to 8 tonnes | E9: Over 8 to 12 tonnes | F9: Over 12 to 20 tonnes | G9: Greater than 20 tonnes | H9: Not stated | I9: Total
C10: (vehicles) | D10: (vehicles) | E10: (vehicles) | F10: (vehicles) | G10: (vehicles) | H10: (vehicles) | I10: (vehicles)
C11: New South Wales
B12: 2024 | C12: 73831 | D12: 24261 | E12: 30439 | F12: 20053 | G12: 35194 | H12: 1412 | I12: 185190
B13: 2025 | C13: 81327 | D13: 24611 | E13: 30331 | F13: 20397 | G13: 36021 | H13: 1438 | I13: 194125
B14: 2026 | C14: 88532 | D14: 24926 | E14: 29993 | F14: 20430 | G14: 36464 | H14: 1408 | I14: 201753
C15: Victoria
B16: 2024 | C16: 54903 | D16: 17190 | E16: 25430 | F16: 16250 | G16: 33016 | H16: 2269 | I16: 149058
B17: 2025 | C17: 60796 | D17: 17551 | E17: 25706 | F17: 16514 | G17: 34036 | H17: 2163 | I17: 156766
B18: 2026 | C18: 65820 | D18: 17765 | E18: 25539 | F18: 16477 | G18: 34287 | H18: 2056 | I18: 161944
C19: Queensland
B20: 2024 | C20: 55595 | D20: 16815 | E20: 21813 | F20: 17993 | G20: 28162 | H20: 314 | I20: 140692
B21: 2025 | C21: 63474 | D21: 17591 | E21: 22077 | F21: 18464 | G21: 29490 | H21: 324 | I21: 151420
B22: 2026 | C22: 73123 | D22: 18611 | E22: 22263 | F22: 18765 | G22: 30645 | H22: 347 | I22: 163754
C23: South Australia
B24: 2024 | C24: 13323 | D24: 5052 | E24: 7362 | F24: 5572 | G24: 8536 | H24: 178 | I24: 40023
B25: 2025 | C25: 15206 | D25: 5119 | E25: 7379 | F25: 5631 | G25: 8808 | H25: 166 | I25: 42309
B26: 2026 | C26: 17266 | D26: 5239 | E26: 7388 | F26: 5624 | G26: 9195 | H26: 178 | I26: 44890
C27: Western Australia
B28: 2024 | C28: 23996 | D28: 4010 | E28: 10575 | F28: 9855 | G28: 20588 | H28: 16949 | I28: 85973
B29: 2025 | C29: 28805 | D29: 3934 | E29: 10669 | F29: 9919 | G29: 21750 | H29: 18028 | I29: 93105
B30: 2026 | C30: 34872 | D30: 3886 | E30: 10791 | F30: 10178 | G30: 22781 | H30: 18857 | I30: 101365
C31: Tasmania
B32: 2024 | C32: 5217 | D32: 2755 | E32: 2666 | F32: 1996 | G32: 3366 | H32: 35 | I32: 16035
B33: 2025 | C33: 5758 | D33: 2793 | E33: 2701 | F33: 2044 | G33: 3428 | H33: 35 | I33: 16759
B34: 2026 | C34: 6417 | D34: 2820 | E34: 2723 | F34: 2042 | G34: 3469 | H34: 34 | I34: 17505
C35: Northern Territory
B36: 2024 | C36: 2201 | D36: 1550 | E36: 1209 | F36: 899 | G36: 1321 | H36: 51 | I36: 7231
B37: 2025 | C37: 2668 | D37: 1566 | E37: 1182 | F37: 929 | G37: 1340 | H37: 44 | I37: 7729
B38: 2026 | C38: 3262 | D38: 1562 | E38: 1184 | F38: 915 | G38: 1369 | H38: 45 | I38: 8337
C39: Australian Capital Territory
B40: 2024 | C40: 1998 | D40: 391 | E40: 493 | F40: 312 | G40: 589 | H40: 22 | I40: 3805
B41: 2025 | C41: 2206 | D41: 408 | E41: 484 | F41: 303 | G41: 567 | H41: 22 | I41: 3990
B42: 2026 | C42: 2366 | D42: 401 | E42: 456 | F42: 304 | G42: 581 | H42: 20 | I42: 4128
C43: Australia
...

Sheet Table 12
C2: Bureau of Infrastructure and Transport Research Economics
B3: =Index!B3 -> Road vehicles Australia, 31 January 2026
B4: =Index!B4 -> Released: 12 October 2026
B6: =Index!B21 -> Table 12 | C6: =Index!C21 -> Articulated trucks on register, by gross combination mass (GCM) and state/territory of registration, 2024, 2025 & 2026
C8: Gross combination mass
B9: Year | C9: Over 3 to 20 tonnes | D9: Over 20 to 40 tonnes | E9: Over 40 to 60 tonnes | F9: Over 60 to 100 tonnes | G9: Greater than 100 tonnes | H9: Not stated | I9: Total
C10: (vehicles) | D10: (vehicles) | E10: (vehicles) | F10: (vehicles) | G10: (vehicles) | H10: (vehicles) | I10: (vehicles)
C11: New South Wales
B12: 2024 | C12: 125 | D12: 569 | E12: 4833 | F12: 19743 | G12: 2712 | H12: 69 | I12: 28051
B13: 2025 | C13: 116 | D13: 548 | E13: 4708 | F13: 20250 | G13: 2993 | H13: 60 | I13: 28675
B14: 2026 | C14: 106 | D14: 500 | E14: 4466 | F14: 20476 | G14: 3206 | H14: 56 | I14: 28810
C15: Victoria
B16: 2024 | C16: 386 | D16: 1429 | E16: 7201 | F16: 24093 | G16: 1488 | H16: 296 | I16: 34893
B17: 2025 | C17: 383 | D17: 1379 | E17: 7088 | F17: 24959 | G17: 1799 | H17: 286 | I17: 35894
B18: 2026 | C18: 369 | D18: 1356 | E18: 6928 | F18: 24930 | G18: 2104 | H18: 248 | I18: 35935
C19: Queensland
B20: 2024 | C20: 44 | D20: 672 | E20: 4077 | F20: 15037 | G20: 7090 | H20: 38 | I20: 26958
B21: 2025 | C21: 42 | D21: 633 | E21: 4059 | F21: 15683 | G21: 7422 | H21: 41 | I21: 27880
B22: 2026 | C22: 39 | D22: 595 | E22: 4044 | F22: 16036 | G22: 7692 | H22: 34 | I22: 28440
C23: South Australia
B24: 2024 | C24: 5 | D24: 293 | E24: 2068 | F24: 5859 | G24: 2297 | H24: 9 | I24: 10531
B25: 2025 | C25: 9 | D25: 272 | E25: 1988 | F25: 5983 | G25: 2580 | H25: 10 | I25: 10842
B26: 2026 | C26: 7 | D26: 258 | E26: 1948 | F26: 5903 | G26: 2783 | H26: 10 | I26: 10909
C27: Western Australia
B28: 2024 | C28: 32 | D28: 451 | E28: 14439 | F28: 49 | G28: 33 | H28: 4917 | I28: 19921
B29: 2025 | C29: 31 | D29: 416 | E29: 15255 | F29: 93 | G29: 51 | H29: 5249 | I29: 21095
B30: 2026 | C30: 35 | D30: 397 | E30: 15798 | F30: 165 | G30: 114 | H30: 5422 | I30: 21931
C31: Tasmania
B32: 2024 | C32: 18 | D32: 75 | E32: 350 | F32: 1589 | G32: 81 | H32: 269 | I32: 2382
B33: 2025 | C33: 24 | D33: 72 | E33: 336 | F33: 1647 | G33: 90 | H33: 256 | I33: 2425
B34: 2026 | C34: 27 | D34: 67 | E34: 325 | F34: 1739 | G34: 99 | H34: 230 | I34: 2487
C35: Northern Territory
B36: 2024 | C36: 6 | D36: 22 | E36: 83 | F36: 293 | G36: 965 | H36: 3 | I36: 1372
B37: 2025 | C37: 4 | D37: 19 | E37: 83 | F37: 277 | G37: 1016 | H37: 3 | I37: 1402
B38: 2026 | C38: 7 | D38: 19 | E38: 80 | F38: 274 | G38: 1054 | H38: 6 | I38: 1440
C39: Australian Capital Territory
B40: 2024 | C40: 0 | D40: 14 | E40: 30 | F40: 133 | G40: 4 | H40: 14 | I40: 195
B41: 2025 | C41: 0 | D41: 13 | E41: 27 | F41: 148 | G41: 3 | H41: 14 | I41: 205
B42: 2026 | C42: 0 | D42: 13 | E42: 26 | F42: 147 | G42: 5 | H42: 10 | I42: 201
C43: Australia
...

Sheet Table 13
C2: Bureau of Infrastructure and Transport Research Economics
B3: =Index!B3 -> Road vehicles Australia, 31 January 2026
B4: =Index!B4 -> Released: 12 October 2026
B6: =Index!B22 -> Table 13 | C6: =Index!C22 -> Caravans on register, by tare weight and state/territory of registration, 2024, 2025 & 2026
C8: Tare weight
B9: Year | C9: 1-500 kilograms | D9: 501-1000 kilograms | E9: 1001-1500 kilograms | F9: 1500-2000 kilograms | G9: 2001-2500 kilograms | H9: 2501-3000 kilograms | I9: Greater than 3000 kilograms | J9: Not stated | K9: Total
C10: (vehicles) | D10: (vehicles) | E10: (vehicles) | F10: (vehicles) | G10: (vehicles) | H10: (vehicles) | I10: (vehicles) | J10: (vehicles) | K10: (vehicles)
C11: New South Wales
B12: 2024 | C12: 7579 | D12: 36183 | E12: 44192 | F12: 33891 | G12: 40527 | H12: 17708 | I12: 1543 | J12: 105 | K12: 181728
B13: 2025 | C13: 7322 | D13: 34622 | E13: 43909 | F13: 34659 | G13: 43728 | H13: 20337 | I13: 1959 | J13: 99 | K13: 186635
B14: 2026 | C14: 7106 | D14: 33007 | E14: 43342 | F14: 35108 | G14: 46557 | H14: 22710 | I14: 2421 | J14: 87 | K14: 190338
C15: Victoria
B16: 2024 | C16: 2705 | D16: 28158 | E16: 43806 | F16: 34865 | G16: 44032 | H16: 21327 | I16: 2260 | J16: 17043 | K16: 194196
B17: 2025 | C17: 2677 | D17: 28057 | E17: 44343 | F17: 36206 | G17: 47780 | H17: 24493 | I17: 2823 | J17: 15893 | K17: 202272
B18: 2026 | C18: 2649 | D18: 27691 | E18: 44332 | F18: 36893 | G18: 51107 | H18: 27469 | I18: 3382 | J18: 14753 | K18: 208276
C19: Queensland
B20: 2024 | C20: 15008 | D20: 40865 | E20: 46642 | F20: 40847 | G20: 45254 | H20: 21766 | I20: 2659 | J20: 5215 | K20: 218256
B21: 2025 | C21: 14499 | D21: 39696 | E21: 46986 | F21: 42355 | G21: 50276 | H21: 25448 | I21: 3251 | J21: 5170 | K21: 227681
B22: 2026 | C22: 13985 | D22: 38422 | E22: 47058 | F22: 43346 | G22: 54724 | H22: 28713 | I22: 3987 | J22: 5030 | K22: 235265
C23: South Australia
B24: 2024 | C24: 1172 | D24: 12326 | E24: 15160 | F24: 11259 | G24: 14276 | H24: 6264 | I24: 587 | J24: 0 | K24: 61044
B25: 2025 | C25: 1113 | D25: 11737 | E25: 15128 | F25: 11777 | G25: 15755 | H25: 7333 | I25: 713 | J25: 0 | K25: 63556
B26: 2026 | C26: 1071 | D26: 10998 | E26: 14903 | F26: 12105 | G26: 16993 | H26: 8264 | I26: 882 | J26: 0 | K26: 65216
C27: Western Australia
B28: 2024 | C28: 6450 | D28: 26863 | E28: 29174 | F28: 21381 | G28: 21934 | H28: 11183 | I28: 1941 | J28: 3 | K28: 118929
B29: 2025 | C29: 6374 | D29: 26656 | E29: 29634 | F29: 22378 | G29: 24610 | H29: 13073 | I29: 2225 | J29: 3 | K29: 124953
B30: 2026 | C30: 6250 | D30: 26126 | E30: 29800 | F30: 23281 | G30: 27336 | H30: 15117 | I30: 2589 | J30: 3 | K30: 130502
C31: Tasmania
B32: 2024 | C32: 1524 | D32: 7606 | E32: 9436 | F32: 1518 | G32: 1873 | H32: 745 | I32: 238 | J32: 10 | K32: 22950
B33: 2025 | C33: 1495 | D33: 7617 | E33: 10155 | F33: 1581 | G33: 1983 | H33: 802 | I33: 262 | J33: 10 | K33: 23905
B34: 2026 | C34: 1455 | D34: 7628 | E34: 10846 | F34: 1652 | G34: 2118 | H34: 882 | I34: 292 | J34: 10 | K34: 24883
C35: Northern Territory
B36: 2024 | C36: 41 | D36: 206 | E36: 555 | F36: 489 | G36: 641 | H36: 366 | I36: 51 | J36: 0 | K36: 2349
B37: 2025 | C37: 38 | D37: 177 | E37: 551 | F37: 520 | G37: 702 | H37: 431 | I37: 67 | J37: 0 | K37: 2486
B38: 2026 | C38: 33 | D38: 171 | E38: 491 | F38: 542 | G38: 773 | H38: 461 | I38: 84 | J38: 0 | K38: 2555
C39: Australian Capital Territory
B40: 2024 | C40: 608 | D40: 1614 | E40: 1548 | F40: 987 | G40: 948 | H40: 319 | I40: 23 | J40: 0 | K40: 6047
B41: 2025 | C41: 584 | D41: 1568 | E41: 1617 | F41: 1042 | G41: 1032 | H41: 366 | I41: 25 | J41: 0 | K41: 6234
B42: 2026 | C42: 578 | D42: 1507 | E42: 1623 | F42: 1005 | G42: 1149 | H42: 409 | I42: 34 | J42: 0 | K42: 6305
C43: Australia
...

Sheet Table 14
C2: Bureau of Infrastructure and Transport Research Economics
B3: =Index!B3 -> Road vehicles Australia, 31 January 2026
B4: =Index!B4 -> Released: 12 October 2026
B6: =Index!B23 -> Table 14 | C6: =Index!C23 -> Trailers on register, by trailer type and state/territory of registration, 2024, 2025 & 2026
C8: Trailer type
B9: Year | C9: Box trailers | D9: Boat trailers | E9: Horse floats | F9: Semi trailers | G9: Truck trailers | H9: Trailered machinery | I9: Other trailers | J9: Other unpowered | K9: Total
C10: (vehicles) | D10: (vehicles) | E10: (vehicles) | F10: (vehicles) | G10: (vehicles) | H10: (vehicles) | I10: (vehicles) | J10: (vehicles) | K10: (vehicles)
C11: New South Wales
B12: 2024 | C12: 565348 | D12: 231496 | E12: 31274 | F12: 54036 | G12: 13046 | H12: 25304 | I12: 16402 | J12: 3 | K12: 936909
B13: 2025 | C13: 560001 | D13: 229653 | E13: 31129 | F13: 56136 | G13: 13293 | H13: 25860 | I13: 19446 | J13: 3 | K13: 935521
B14: 2026 | C14: 555073 | D14: 226535 | E14: 30839 | F14: 57485 | G14: 13154 | H14: 26114 | I14: 22539 | J14: 3 | K14: 931742
C15: Victoria
B16: 2024 | C16: 475360 | D16: 178332 | E16: 29144 | F16: 65613 | G16: 13803 | H16: 34684 | I16: 6429 | J16: 4 | K16: 803369
B17: 2025 | C17: 479054 | D17: 179221 | E17: 29491 | F17: 68295 | G17: 13924 | H17: 35657 | I17: 10142 | J17: 4 | K17: 815788
B18: 2026 | C18: 481332 | D18: 178666 | E18: 29634 | F18: 69923 | G18: 13698 | H18: 35833 | I18: 14310 | J18: 4 | K18: 823400
C19: Queensland
B20: 2024 | C20: 486678 | D20: 251657 | E20: 24590 | F20: 70839 | G20: 82757 | H20: 7513 | I20: 3777 | J20: 85 | K20: 927896
B21: 2025 | C21: 489880 | D21: 252455 | E21: 24969 | F21: 73704 | G21: 87718 | H21: 7527 | I21: 5784 | J21: 79 | K21: 942116
B22: 2026 | C22: 495342 | D22: 254166 | E22: 25349 | F22: 75746 | G22: 93660 | H22: 7658 | I22: 8079 | J22: 73 | K22: 960073
C23: South Australia
B24: 2024 | C24: 235164 | D24: 50312 | E24: 4930 | F24: 23773 | G24: 5190 | H24: 4571 | I24: 1093 | J24: 3 | K24: 325036
B25: 2025 | C25: 233620 | D25: 51002 | E25: 4966 | F25: 24342 | G25: 5539 | H25: 4568 | I25: 2206 | J25: 3 | K25: 326246
B26: 2026 | C26: 231261 | D26: 49051 | E26: 4974 | F26: 25013 | G26: 5883 | H26: 4791 | I26: 3397 | J26: 3 | K26: 324373
C27: Western Australia
B28: 2024 | C28: 286031 | D28: 101239 | E28: 10637 | F28: 56303 | G28: 3250 | H28: 12218 | I28: 924 | J28: 7 | K28: 470609
B29: 2025 | C29: 289572 | D29: 102549 | E29: 10926 | F29: 59469 | G29: 3426 | H29: 12830 | I29: 2326 | J29: 6 | K29: 481104
B30: 2026 | C30: 293166 | D30: 104054 | E30: 11059 | F30: 62114 | G30: 3586 | H30: 13158 | I30: 4099 | J30: 7 | K30: 491243
C31: Tasmania
B32: 2024 | C32: 80109 | D32: 28951 | E32: 3631 | F32: 4692 | G32: 1180 | H32: 2669 | I32: 3887 | J32: 0 | K32: 125119
B33: 2025 | C33: 80608 | D33: 28779 | E33: 3651 | F33: 4831 | G33: 1203 | H33: 2719 | I33: 4115 | J33: 0 | K33: 125906
B34: 2026 | C34: 81651 | D34: 28810 | E34: 3711 | F34: 4927 | G34: 1193 | H34: 2794 | I34: 4513 | J34: 0 | K34: 127599
C35: Northern Territory
B36: 2024 | C36: 21026 | D36: 7744 | E36: 594 | F36: 5021 | G36: 343 | H36: 449 | I36: 59 | J36: 0 | K36: 35236
B37: 2025 | C37: 20546 | D37: 7534 | E37: 565 | F37: 5093 | G37: 338 | H37: 405 | I37: 224 | J37: 0 | K37: 34705
B38: 2026 | C38: 20477 | D38: 7284 | E38: 573 | F38: 5256 | G38: 363 | H38: 410 | I38: 373 | J38: 0 | K38: 34736
C39: Australian Capital Territory
B40: 2024 | C40: 26975 | D40: 4407 | E40: 487 | F40: 289 | G40: 169 | H40: 448 | I40: 1288 | J40: 0 | K40: 34063
B41: 2025 | C41: 26899 | D41: 4368 | E41: 509 | F41: 285 | G41: 146 | H41: 489 | I41: 1410 | J41: 0 | K41: 34106
B42: 2026 | C42: 26733 | D42: 4359 | E42: 509 | F42: 284 | G42: 138 | H42: 516 | I42: 1508 | J42: 0 | K42: 34047
C43: Australia
...

Sheet Table 15
C2: Bureau of Infrastructure and Transport Research Economics
B3: =Index!B3 -> Road vehicles Australia, 31 January 2026
B4: =Index!B4 -> Released: 12 October 2026
B6: =Index!B24 -> Table 15 | C6: =Index!C24 -> Plant and equipment on register, by tare weight and state/territory of registration, 2024, 2025 & 2026
C8: Tare weight
B9: Year | C9: 1-1000 kilograms | D9: 1001-2000 kilograms | E9: 2001-3000 kilograms | F9: 3001-5000 kilograms | G9: 5001-10000 kilograms | H9: 10001-20000 kilograms | I9: Greater than 20000 kilograms | J9: Not stated | K9: Total
C10: (vehicles) | D10: (vehicles) | E10: (vehicles) | F10: (vehicles) | G10: (vehicles) | H10: (vehicles) | I10: (vehicles) | J10: (vehicles) | K10: (vehicles)
C11: New South Wales
B12: 2024 | C12: 121 | D12: 162 | E12: 207 | F12: 447 | G12: 535 | H12: 490 | I12: 63 | J12: 0 | K12: 2025
B13: 2025 | C13: 119 | D13: 132 | E13: 178 | F13: 385 | G13: 488 | H13: 446 | I13: 62 | J13: 0 | K13: 1810
B14: 2026 | C14: 128 | D14: 119 | E14: 161 | F14: 342 | G14: 438 | H14: 399 | I14: 56 | J14: 0 | K14: 1643
C15: Victoria
B16: 2024 | C16: 18823 | D16: 6493 | E16: 12387 | F16: 24989 | G16: 22080 | H16: 9650 | I16: 1136 | J16: 7242 | K16: 102800
B17: 2025 | C17: 19036 | D17: 6479 | E17: 12265 | F17: 25086 | G17: 22543 | H17: 9881 | I17: 1245 | J17: 6868 | K17: 103403
B18: 2026 | C18: 19048 | D18: 6332 | E18: 12151 | F18: 24940 | G18: 22746 | H18: 9944 | I18: 1335 | J18: 6492 | K18: 102988
C19: Queensland
B20: 2024 | C20: 9234 | D20: 4966 | E20: 7751 | F20: 21468 | G20: 15690 | H20: 11231 | I20: 5003 | J20: 29548 | K20: 104891
B21: 2025 | C21: 9580 | D21: 4954 | E21: 7583 | F21: 21317 | G21: 16107 | H21: 11277 | I21: 5043 | J21: 30842 | K21: 106703
B22: 2026 | C22: 9839 | D22: 4922 | E22: 7481 | F22: 21099 | G22: 16387 | H22: 11450 | I22: 5057 | J22: 32413 | K22: 108648
C23: South Australia
B24: 2024 | C24: 2429 | D24: 4160 | E24: 7825 | F24: 16362 | G24: 13196 | H24: 8426 | I24: 1364 | J24: 2089 | K24: 55851
B25: 2025 | C25: 2492 | D25: 4066 | E25: 7616 | F25: 16192 | G25: 12950 | H25: 8308 | I25: 1379 | J25: 2027 | K25: 55030
B26: 2026 | C26: 2534 | D26: 4104 | E26: 7514 | F26: 16181 | G26: 12981 | H26: 8366 | I26: 1469 | J26: 1962 | K26: 55111
C27: Western Australia
B28: 2024 | C28: 3115 | D28: 3362 | E28: 5339 | F28: 10937 | G28: 11766 | H28: 13526 | I28: 2527 | J28: 379 | K28: 50951
B29: 2025 | C29: 3150 | D29: 3355 | E29: 5274 | F29: 10972 | G29: 11858 | H29: 13828 | I29: 2755 | J29: 382 | K29: 51574
B30: 2026 | C30: 3139 | D30: 3329 | E30: 5239 | F30: 11039 | G30: 11897 | H30: 14061 | I30: 2936 | J30: 369 | K30: 52009
C31: Tasmania
B32: 2024 | C32: 370 | D32: 77 | E32: 19 | F32: 18 | G32: 14 | H32: 10 | I32: 0 | J32: 11759 | K32: 12267
B33: 2025 | C33: 346 | D33: 76 | E33: 18 | F33: 17 | G33: 15 | H33: 10 | I33: 0 | J33: 11734 | K33: 12216
B34: 2026 | C34: 331 | D34: 74 | E34: 17 | F34: 17 | G34: 13 | H34: 9 | I34: 0 | J34: 11656 | K34: 12117
C35: Northern Territory
B36: 2024 | C36: 4 | D36: 4 | E36: 7 | F36: 14 | G36: 51 | H36: 58 | I36: 8 | J36: 1849 | K36: 1995
B37: 2025 | C37: 3 | D37: 3 | E37: 6 | F37: 14 | G37: 43 | H37: 50 | I37: 8 | J37: 1841 | K37: 1968
B38: 2026 | C38: 3 | D38: 3 | E38: 6 | F38: 18 | G38: 34 | H38: 50 | I38: 6 | J38: 1807 | K38: 1927
C39: Australian Capital Territory
B40: 2024 | C40: 84 | D40: 75 | E40: 70 | F40: 58 | G40: 45 | H40: 34 | I40: 3 | J40: 3 | K40: 372
B41: 2025 | C41: 78 | D41: 78 | E41: 76 | F41: 53 | G41: 43 | H41: 34 | I41: 0 | J41: 3 | K41: 365
B42: 2026 | C42: 79 | D42: 66 | E42: 78 | F42: 63 | G42: 44 | H42: 25 | I42: 0 | J42: 3 | K42: 358
C43: Australia
...

Sheet Explanatory Notes
B3: =Index!B3 -> Road vehicles Australia, 31 January 2026
B5: Explanatory Notes
B7: BITRE (2026) Road Vehicles Australia, 31 January 2026, includes all motor vehicles that were registered with an Australian state or territory motor vehicle registry (MVR) for unrestricted use on public roads and reported by jurisdictions to the National Exchange of Vehicle and Driver Information System (NEVDIS), as at the 31 January 2026. The scope of the estimates have been defined to accord as closely as possible with the previous Australian Bureau of Statistics' (ABS) Motor Vehicle Census (MVC) estimates, and hence exclude: • recreational vehicles such as trail bikes, quad bikes, and sand dune buggies intended for off-road use • veteran and vintage vehicles registered for restricted use only • consular vehicles, and • vehicles registered by the defence forces. In particular, veteran and vintage vehicles registered for restricted use do not appear to be present in NEVDIS for most jurisdictions and are therefore not included. Consular and defence force vehicles also do not appear to be present in the NEVDIS data. Recreational vehicles are excluded via make and model, however, some trail bikes and quad bikes may still be present in the estimates. BITRE has followed the ABS MVC registration cut-off, deeming all vehicles whose registration lapsed up to 30 days prior to the MVC snapshot date (i.e. after 31 December of the preceding calendar year) to be in scope.
B9: Data Quality
B11: The number of registered vehicles in the fleet, near 27 million vehicles (including caravans, trailers and plant & equipment ), dictates that quality assurance of each record is not possible. For data made available at a detailed level, BITRE is unable to guarantee that it is necessarily sufficient for all purposes for which it may be used. There is also some variation in the reporting from different state and territory MVRs and care should be taken when comparing data across jurisdictions. The data provided to and used by BITRE to produce estimates of registered vehicles for any year may be revised or corrected in later years. Where corrections are made to original data they will be identified.
B13: Statistical geography
B15: Road Vehicles, Australia is available at the following geographical areas: • state/territory of vehicle registration • postcode of vehicle registration • postcode of vehicle garaging, defined as vehicle garaging postcode where recorded and registered postcode where garaging postcode is not available. • suburb of vehicle registration, encoded to Australian Statistical Geography Standard (ASGS) 2021 Suburbs and Localities (SAL) • suburb of vehicle garaging, encoded to ASGS 2021 SALs and defined as vehicle garaging suburb where recorded and registered suburb where garaging suburb is not available. • area of registration and garaging for ASGS 2021 Statistical Level 3 (SA3) areas and above. In analysing registered vehicle counts at sub-state level, please note: • there are vehicles for which the postcode or suburb of the vehicle’s owner is in a different jurisdiction to that in which the vehicle is registered. For example, the postcode of the owner of the vehicle could be in Sydney, yet the vehicle could in Queensland; • some official postcodes (PO boxes, large volume receivers and specialist delivery postcodes) do not correspond to residential areas; and • a small proportion of registered postcodes could not be matched to official Australian postcodes (e.g. incomplete, invalid or overseas postcode). All invalid postcodes are encoded as 'UNKN' - Unknown.
B17: Confidentialisation
B19: The estimates provided here have been confidentialised so as to avoid the release of information that may allow for the identification of particular individuals, families, households, dwellings or businesses, from registered vehicle characteristics. The confidentialisation procedure involves the random perturbation of non-zero small count cells reported in this extract, including any total cells. Perturbation may change the true cell value by either increasing or decreasing the value by a small amount. These adjustments introduce random errors, but with almost no bias. Consequently, totals produced by summing interior estimates may not sum to totals reported in this publication.
B21: © Commonwealth of Australia
